BEGIN:VCALENDAR
VERSION:2.0
PRODID:icalendar-ruby
CALSCALE:GREGORIAN
METHOD:PUBLISH
BEGIN:VEVENT
DTSTAMP:20260424T052124Z
UID:28-2073693@hopeinweissport.org
DTSTART:20261010T120000Z
DTEND:20261010T133000Z
CLASS:PUBLIC
CREATED:20260423T211723
DESCRIPTION:Breakfast\, brief devotional\, and discussion\, held on the 2nd
  and 4th Saturday of each month
LAST-MODIFIED:20260423T211723
LOCATION:443 Beacon Diner
SUMMARY:Men's Breakfast
URL;VALUE=URI:https://hopeinweissport.org/events/mens-breakfast--28/2026-10
 -10
ATTACH;FILENAME=beacon-443-diner-restaurant.jpg;FMTTYPE=image/jpeg:https://
 dq5pwpg1q8ru0.cloudfront.net/2022/03/05/06/26/30/ac21809f-0d45-410b-91d6-e
 cffd59c5e6e/beacon-443-diner-restaurant.jpg
END:VEVENT
END:VCALENDAR
